BEGIN:VCALENDAR
VERSION:2.0
PRODID:-//Phacility//Phabricator//EN
BEGIN:VEVENT
UID:PHID-CEVT-xy4jlzafcxvqur3fc4gw@secure.phabricator.com
CREATED:20171109T143927Z
DTSTAMP:20171109T143927Z
DTSTART;VALUE=DATE:20171112
DTEND;VALUE=DATE:20171115
SUMMARY:Beach
ORGANIZER;CN="tinytiongson (Christine Tiongson)":mailto:PHID-USER-r4bsg74gm
 53x5i77idiv@secure.phabricator.com
ATTENDEE;CN="tinytiongson (Christine Tiongson)";PARTSTAT=ACCEPTED:https://s
 ecure.phabricator.com/p/tinytiongson/
END:VEVENT
END:VCALENDAR
