BEGIN:VCALENDAR
VERSION:2.0
PRODID:-//Phacility//Phabricator//EN
BEGIN:VEVENT
UID:PHID-CEVT-z4w2h33vypf7y7js2vwb@secure.phabricator.com
CREATED:20171109T143829Z
DTSTAMP:20171109T143829Z
DTSTART;VALUE=DATE:20171113
DTEND;VALUE=DATE:20171116
SUMMARY:ASEAN Summit
ORGANIZER;CN="tinytiongson (Christine Tiongson)":mailto:PHID-USER-r4bsg74gm
 53x5i77idiv@secure.phabricator.com
ATTENDEE;CN="tinytiongson (Christine Tiongson)";PARTSTAT=ACCEPTED:https://s
 ecure.phabricator.com/p/tinytiongson/
END:VEVENT
END:VCALENDAR
