BEGIN:VCALENDAR
VERSION:2.0
PRODID:-//Phacility//Phabricator//EN
BEGIN:VEVENT
UID:PHID-CEVT-gp47ipdvntbv3iecivqm@secure.phabricator.com
CREATED:20170612T180356Z
DTSTAMP:20170612T180809Z
DTSTART;VALUE=DATE:20170618
DTEND;VALUE=DATE:20170624
SUMMARY:Austin in Vegas
DESCRIPTION:Austin will be working-from-Vegas for a few days. Expect weird 
 hours of reachability but otherwise normal productivity.
ORGANIZER;CN="amckinley (Austin McKinley)":mailto:PHID-USER-d551442962a130e
 e9e84@secure.phabricator.com
ATTENDEE;CN="amckinley (Austin McKinley)";PARTSTAT=ACCEPTED:https://secure.
 phabricator.com/p/amckinley/
END:VEVENT
END:VCALENDAR
