BEGIN:VCALENDAR
VERSION:2.0
PRODID:-//Phacility//Phabricator//EN
BEGIN:VEVENT
UID:PHID-CEVT-d3qvb6oageiebbjepsc6@secure.phabricator.com
CREATED:20160301T085812Z
DTSTAMP:20160301T085812Z
DTSTART:20160317T090000Z
DTEND:20160331T100000Z
SUMMARY:How to Get a Job Using Social Media
DESCRIPTION:To get a job is never a easy task. But it has been seen that mo
 st of the passed out students\, even the experienced professionals are sti
 ll following the old rules of searching a job and landing an interview.\nS
 uppose\, you have applied for a job in a company where you have mentioned 
 yourself as a reserved\, introverted person; but recently you uploaded a p
 hoto of you and your friends where you are being seen as extroverted as on
 e can possibly be. Now\, you may think that it’s quite natural to be exu
 berant with your friends even if you are reserved by nature. But employers
  see it differently. They search your profile and find out photos and matc
 h with your own description of your characteristics.
ORGANIZER;CN="williamlohr (william)":mailto:PHID-USER-mwyrshci7ur37lghwdy4@
 secure.phabricator.com
ATTENDEE;CN="williamlohr (william)";PARTSTAT=ACCEPTED:https://secure.phabri
 cator.com/p/williamlohr/
END:VEVENT
END:VCALENDAR
